BEGIN:VCALENDAR
VERSION:2.0
PRODID:-//evangelisch im Harz - ECPv6.15.20//NONSGML v1.0//EN
CALSCALE:GREGORIAN
METHOD:PUBLISH
X-ORIGINAL-URL:https://evangelisch-im-harz.de
X-WR-CALDESC:Veranstaltungen für evangelisch im Harz
REFRESH-INTERVAL;VALUE=DURATION:PT1H
X-Robots-Tag:noindex
X-PUBLISHED-TTL:PT1H
BEGIN:VTIMEZONE
TZID:Europe/Berlin
BEGIN:DAYLIGHT
TZOFFSETFROM:+0100
TZOFFSETTO:+0200
TZNAME:CEST
DTSTART:20250330T010000
END:DAYLIGHT
BEGIN:STANDARD
TZOFFSETFROM:+0200
TZOFFSETTO:+0100
TZNAME:CET
DTSTART:20251026T010000
END:STANDARD
BEGIN:DAYLIGHT
TZOFFSETFROM:+0100
TZOFFSETTO:+0200
TZNAME:CEST
DTSTART:20260329T010000
END:DAYLIGHT
BEGIN:STANDARD
TZOFFSETFROM:+0200
TZOFFSETTO:+0100
TZNAME:CET
DTSTART:20261025T010000
END:STANDARD
BEGIN:DAYLIGHT
TZOFFSETFROM:+0100
TZOFFSETTO:+0200
TZNAME:CEST
DTSTART:20270328T010000
END:DAYLIGHT
BEGIN:STANDARD
TZOFFSETFROM:+0200
TZOFFSETTO:+0100
TZNAME:CET
DTSTART:20271031T010000
END:STANDARD
END:VTIMEZONE
BEGIN:VEVENT
DTSTART;TZID=Europe/Berlin:20260422T150000
DTEND;TZID=Europe/Berlin:20260422T170000
DTSTAMP:20260423T170600
CREATED:20260110T000154Z
LAST-MODIFIED:20260415T101713Z
UID:4894-1776870000-1776877200@evangelisch-im-harz.de
SUMMARY:Gemeindenachmittag Molmerswende
DESCRIPTION:
URL:https://evangelisch-im-harz.de/termine/gemeindenachmittag-molemerswende-9/
LOCATION:St. Stephani (Molmerswende)\, Kirchengemeindeverband Königerode\, Hauptstraße 14\, 06343 Mansfeld\, Deutschland
END:VEVENT
BEGIN:VEVENT
DTSTART;TZID=Europe/Berlin:20260419T103000
DTEND;TZID=Europe/Berlin:20260419T113000
DTSTAMP:20260423T170600
CREATED:20260416T102727Z
LAST-MODIFIED:20260416T102728Z
UID:5121-1776594600-1776598200@evangelisch-im-harz.de
SUMMARY:Gottesdienst in Dankerode
DESCRIPTION:
URL:https://evangelisch-im-harz.de/termine/gottesdienst-in-dankerode-23/
END:VEVENT
BEGIN:VEVENT
DTSTART;TZID=Europe/Berlin:20260419T090000
DTEND;TZID=Europe/Berlin:20260419T100000
DTSTAMP:20260423T170600
CREATED:20260416T102520Z
LAST-MODIFIED:20260416T102620Z
UID:5118-1776589200-1776592800@evangelisch-im-harz.de
SUMMARY:Gottesdienst in Braunschwende (Kirche)
DESCRIPTION:
URL:https://evangelisch-im-harz.de/termine/gottesdienst-in-braunschwende-kirche/
CATEGORIES:Gottesdienste
END:VEVENT
BEGIN:VEVENT
DTSTART;TZID=Europe/Berlin:20260418T170000
DTEND;TZID=Europe/Berlin:20260418T190000
DTSTAMP:20260423T170600
CREATED:20260409T181327Z
LAST-MODIFIED:20260409T181327Z
UID:5112-1776531600-1776538800@evangelisch-im-harz.de
SUMMARY:Die Harzgospel - Kirchenkonzert in Hermerode
DESCRIPTION:Auf gehts in die Kirchenkonzertsaison 2026 – in diesem Jahr mit den Harzgospel aus Neustadt. Sie können sich auf ein Medlw von Gospelliedern freuen und für das leiblche Wohl ist auch gesorgt. Unser Kirche ist beheizt! Wie immer bei unseren Konerten ist der Eintritt frei\, wir bitten am Ausgang um eine Spende für unsere Konzertereihe „Kultur im Harz – Kirchenkonzerte“ \n\n\n\nOrt: St. matthäus Kirche in Hermerode \n\n\n\nhttps://maps.app.goo.gl/oyCPbvAWKPCHtuyS6
URL:https://evangelisch-im-harz.de/termine/die-harzgospel-kirchenkonzert-in-hermerode/
ATTACH;FMTTYPE=image/jpeg:https://evangelisch-im-harz.de/wp-content/uploads/2026/04/20260418-Harzgospel-Hermerode.jpg
END:VEVENT
BEGIN:VEVENT
DTSTART;TZID=Europe/Berlin:20260405T140000
DTEND;TZID=Europe/Berlin:20260405T150000
DTSTAMP:20260423T170600
CREATED:20260110T000154Z
LAST-MODIFIED:20260325T223104Z
UID:4893-1775397600-1775401200@evangelisch-im-harz.de
SUMMARY:Ostergottesdienst in Wippra
DESCRIPTION:
URL:https://evangelisch-im-harz.de/termine/ostergottesdienst-in-wippra-2/
LOCATION:St. Marien (Wippra)\, Kirchengemeinde Wippra\, Fleckstraße\, 06526 Sangerhausen\, Deutschland
END:VEVENT
BEGIN:VEVENT
DTSTART;TZID=Europe/Berlin:20260405T103000
DTEND;TZID=Europe/Berlin:20260405T120000
DTSTAMP:20260423T170600
CREATED:20260110T000154Z
LAST-MODIFIED:20260110T000154Z
UID:4892-1775385000-1775390400@evangelisch-im-harz.de
SUMMARY:Osterbrunch in der Kirche - Königerode
DESCRIPTION:
URL:https://evangelisch-im-harz.de/termine/osterbrunch-in-der-kirche-koenigerode-4/
LOCATION:St. Andreas (Königerode)\, Kirchengemeindeverband\, Dorfstraße\, 06493 Königerode\, Deutschland
END:VEVENT
BEGIN:VEVENT
DTSTART;TZID=Europe/Berlin:20260404T200000
DTEND;TZID=Europe/Berlin:20260404T213000
DTSTAMP:20260423T170600
CREATED:20260110T000154Z
LAST-MODIFIED:20260325T223104Z
UID:4891-1775332800-1775338200@evangelisch-im-harz.de
SUMMARY:Musik zur Osternacht - Gorenzen
DESCRIPTION:
URL:https://evangelisch-im-harz.de/termine/musik-zur-osternacht-gorenzen-2/
LOCATION:St. Laurentius kirche Gorenzen
END:VEVENT
BEGIN:VEVENT
DTSTART;TZID=Europe/Berlin:20260403T140000
DTEND;TZID=Europe/Berlin:20260403T150000
DTSTAMP:20260423T170600
CREATED:20260110T000153Z
LAST-MODIFIED:20260325T223104Z
UID:4889-1775224800-1775228400@evangelisch-im-harz.de
SUMMARY:Karfreitagsgottesdienst in Biesenrode
DESCRIPTION:
URL:https://evangelisch-im-harz.de/termine/karfreitagsgottesdienst-in-biesenrode-2/
LOCATION:St. Bartholomäus (Biesenrode)\, Kirchengemeinde Wippra\, Dorfstraße Biesenrode\, 06343 Mansfeld\, Deutschland
END:VEVENT
BEGIN:VEVENT
DTSTART;TZID=Europe/Berlin:20260403T103000
DTEND;TZID=Europe/Berlin:20260403T113000
DTSTAMP:20260423T170600
CREATED:20260110T000140Z
LAST-MODIFIED:20260325T223104Z
UID:4888-1775212200-1775215800@evangelisch-im-harz.de
SUMMARY:Karfreitagsgottesdienst in Hermerode
DESCRIPTION:
URL:https://evangelisch-im-harz.de/termine/karfreitagsgottesdienst-in-hermerode-2/
LOCATION:St. Matthäus (Hermerode)\, Kirchengemeindeverband Königerode\, Vordere Dorfstraße\, 06343 Mansfeld\, Deutschland
END:VEVENT
BEGIN:VEVENT
DTSTART;TZID=Europe/Berlin:20260403T090000
DTEND;TZID=Europe/Berlin:20260403T100000
DTSTAMP:20260423T170600
CREATED:20260110T000139Z
LAST-MODIFIED:20260325T223104Z
UID:4887-1775206800-1775210400@evangelisch-im-harz.de
SUMMARY:Karfreitagsgottesdienst in Friesdorf
DESCRIPTION:
URL:https://evangelisch-im-harz.de/termine/karfreitagsgottesdienst-in-friesdorf-3/
LOCATION:St. Martin Kirche in Friesdorf\, Kirchengemeinde Wippra\, Friesdorfer Dorfstraße\, 06343 Mansfeld\, Deutschland
END:VEVENT
BEGIN:VEVENT
DTSTART;TZID=Europe/Berlin:20260402T180000
DTEND;TZID=Europe/Berlin:20260402T200000
DTSTAMP:20260423T170600
CREATED:20260110T000139Z
LAST-MODIFIED:20260325T223104Z
UID:4886-1775152800-1775160000@evangelisch-im-harz.de
SUMMARY:Tischabendmahlsfeier "Abendessen mit Jesus" in Molmerswende
DESCRIPTION:
URL:https://evangelisch-im-harz.de/termine/tischabendmahlsfeier-abendessen-mit-jesus-in-molmerswende-2/
LOCATION:St. Stephani (Molmerswende)\, Kirchengemeindeverband Königerode\, Hauptstraße 14\, 06343 Mansfeld\, Deutschland
END:VEVENT
BEGIN:VEVENT
DTSTART;TZID=Europe/Berlin:20260331T183000
DTEND;TZID=Europe/Berlin:20260331T193000
DTSTAMP:20260423T170600
CREATED:20260110T000139Z
LAST-MODIFIED:20260325T223104Z
UID:4885-1774981800-1774985400@evangelisch-im-harz.de
SUMMARY:Taizé Andacht in Königerode
DESCRIPTION:
URL:https://evangelisch-im-harz.de/termine/taize-andacht-in-koenigerode/
LOCATION:Dorfstraße 93\, 06493 Königerode\, Deutschland
END:VEVENT
END:VCALENDAR